BEGIN:VCALENDAR
VERSION:2.0
PRODID:-//Ellicottville Memorial Library - ECPv6.15.20//NONSGML v1.0//EN
CALSCALE:GREGORIAN
METHOD:PUBLISH
X-WR-CALNAME:Ellicottville Memorial Library
X-ORIGINAL-URL:https://ellicottvillelibrary.org
X-WR-CALDESC:Events for Ellicottville Memorial Library
REFRESH-INTERVAL;VALUE=DURATION:PT1H
X-Robots-Tag:noindex
X-PUBLISHED-TTL:PT1H
BEGIN:VTIMEZONE
TZID:America/New_York
BEGIN:DAYLIGHT
TZOFFSETFROM:-0500
TZOFFSETTO:-0400
TZNAME:EDT
DTSTART:20250309T070000
END:DAYLIGHT
BEGIN:STANDARD
TZOFFSETFROM:-0400
TZOFFSETTO:-0500
TZNAME:EST
DTSTART:20251102T060000
END:STANDARD
BEGIN:DAYLIGHT
TZOFFSETFROM:-0500
TZOFFSETTO:-0400
TZNAME:EDT
DTSTART:20260308T070000
END:DAYLIGHT
BEGIN:STANDARD
TZOFFSETFROM:-0400
TZOFFSETTO:-0500
TZNAME:EST
DTSTART:20261101T060000
END:STANDARD
BEGIN:DAYLIGHT
TZOFFSETFROM:-0500
TZOFFSETTO:-0400
TZNAME:EDT
DTSTART:20270314T070000
END:DAYLIGHT
BEGIN:STANDARD
TZOFFSETFROM:-0400
TZOFFSETTO:-0500
TZNAME:EST
DTSTART:20271107T060000
END:STANDARD
END:VTIMEZONE
BEGIN:VEVENT
DTSTART;TZID=America/New_York:20260426T140000
DTEND;TZID=America/New_York:20260426T150000
DTSTAMP:20260422T175643
CREATED:20211001T201037Z
LAST-MODIFIED:20260320T144203Z
UID:1163-1777212000-1777215600@ellicottvillelibrary.org
SUMMARY:Young Adult Book Club
DESCRIPTION:Young adult book club is for teens to get together and read a specific popular YA book once a month. The club meets once a month to talk about the book they have read and enjoy tasty snacks.  The next meeting is Sunday\, April 26th at 2:00pm. The book for this month is “All the Blues in the Sky” by Renee Watson.  Contact the library at 699-2842 to sign up.
URL:https://ellicottvillelibrary.org/event/young-adult-book-club/
END:VEVENT
BEGIN:VEVENT
DTSTART;TZID=America/New_York:20260427T180000
DTEND;TZID=America/New_York:20260427T200000
DTSTAMP:20260422T175643
CREATED:20171013T165650Z
LAST-MODIFIED:20260331T145236Z
UID:339-1777312800-1777320000@ellicottvillelibrary.org
SUMMARY:Knitting Club
DESCRIPTION:Knitting (& crochet) Club – The Knitting Club meets every other Monday at the Library. (Except in the summer we meet once per month).  All abilities welcome – just bring some yarn and your needles.
URL:https://ellicottvillelibrary.org/event/knitting-class-2/
END:VEVENT
BEGIN:VEVENT
DTSTART;TZID=America/New_York:20260428T140000
DTEND;TZID=America/New_York:20260428T150000
DTSTAMP:20260422T175643
CREATED:20211206T161821Z
LAST-MODIFIED:20260331T180543Z
UID:1212-1777384800-1777388400@ellicottvillelibrary.org
SUMMARY:Crafts With Cathy for Adults - Colored Glass Coasters\, Picture Frames and Bird Houses
DESCRIPTION:Crafts With Cathy for Adults– Come for a relaxing\, stress free\, creative break in your day! Tuesdays from 2 pm to 3 pm at the Ellicottville Library. All supplies provided. \n 
URL:https://ellicottvillelibrary.org/event/crafts-with-cathy-2/
END:VEVENT
END:VCALENDAR