BEGIN:VCALENDAR
VERSION:2.0
PRODID:-//Ellicottville Memorial Library - ECPv6.15.20//NONSGML v1.0//EN
CALSCALE:GREGORIAN
METHOD:PUBLISH
X-WR-CALNAME:Ellicottville Memorial Library
X-ORIGINAL-URL:https://ellicottvillelibrary.org
X-WR-CALDESC:Events for Ellicottville Memorial Library
REFRESH-INTERVAL;VALUE=DURATION:PT1H
X-Robots-Tag:noindex
X-PUBLISHED-TTL:PT1H
BEGIN:VTIMEZONE
TZID:America/New_York
BEGIN:DAYLIGHT
TZOFFSETFROM:-0500
TZOFFSETTO:-0400
TZNAME:EDT
DTSTART:20180311T070000
END:DAYLIGHT
BEGIN:STANDARD
TZOFFSETFROM:-0400
TZOFFSETTO:-0500
TZNAME:EST
DTSTART:20181104T060000
END:STANDARD
BEGIN:DAYLIGHT
TZOFFSETFROM:-0500
TZOFFSETTO:-0400
TZNAME:EDT
DTSTART:20190310T070000
END:DAYLIGHT
BEGIN:STANDARD
TZOFFSETFROM:-0400
TZOFFSETTO:-0500
TZNAME:EST
DTSTART:20191103T060000
END:STANDARD
BEGIN:DAYLIGHT
TZOFFSETFROM:-0500
TZOFFSETTO:-0400
TZNAME:EDT
DTSTART:20200308T070000
END:DAYLIGHT
BEGIN:STANDARD
TZOFFSETFROM:-0400
TZOFFSETTO:-0500
TZNAME:EST
DTSTART:20201101T060000
END:STANDARD
BEGIN:DAYLIGHT
TZOFFSETFROM:-0500
TZOFFSETTO:-0400
TZNAME:EDT
DTSTART:20210314T070000
END:DAYLIGHT
BEGIN:STANDARD
TZOFFSETFROM:-0400
TZOFFSETTO:-0500
TZNAME:EST
DTSTART:20211107T060000
END:STANDARD
BEGIN:DAYLIGHT
TZOFFSETFROM:-0500
TZOFFSETTO:-0400
TZNAME:EDT
DTSTART:20220313T070000
END:DAYLIGHT
BEGIN:STANDARD
TZOFFSETFROM:-0400
TZOFFSETTO:-0500
TZNAME:EST
DTSTART:20221106T060000
END:STANDARD
BEGIN:DAYLIGHT
TZOFFSETFROM:-0500
TZOFFSETTO:-0400
TZNAME:EDT
DTSTART:20230312T070000
END:DAYLIGHT
BEGIN:STANDARD
TZOFFSETFROM:-0400
TZOFFSETTO:-0500
TZNAME:EST
DTSTART:20231105T060000
END:STANDARD
BEGIN:DAYLIGHT
TZOFFSETFROM:-0500
TZOFFSETTO:-0400
TZNAME:EDT
DTSTART:20240310T070000
END:DAYLIGHT
BEGIN:STANDARD
TZOFFSETFROM:-0400
TZOFFSETTO:-0500
TZNAME:EST
DTSTART:20241103T060000
END:STANDARD
BEGIN:DAYLIGHT
TZOFFSETFROM:-0500
TZOFFSETTO:-0400
TZNAME:EDT
DTSTART:20250309T070000
END:DAYLIGHT
BEGIN:STANDARD
TZOFFSETFROM:-0400
TZOFFSETTO:-0500
TZNAME:EST
DTSTART:20251102T060000
END:STANDARD
BEGIN:DAYLIGHT
TZOFFSETFROM:-0500
TZOFFSETTO:-0400
TZNAME:EDT
DTSTART:20260308T070000
END:DAYLIGHT
BEGIN:STANDARD
TZOFFSETFROM:-0400
TZOFFSETTO:-0500
TZNAME:EST
DTSTART:20261101T060000
END:STANDARD
END:VTIMEZONE
BEGIN:VEVENT
DTSTART;TZID=America/New_York:20251025T180000
DTEND;TZID=America/New_York:20251025T213000
DTSTAMP:20260422T180740
CREATED:20251001T154727Z
LAST-MODIFIED:20251001T154727Z
UID:2158-1761415200-1761427800@ellicottvillelibrary.org
SUMMARY:Escape the Haunted Library
DESCRIPTION:Can you escape the library in 30 minutes or less? \nGather your team\, sign up for a time slot\, and prepare for a spooktacular escape room! \nFree Event! \nReservation required! \n \nCall the library to sign up for a time slot: (716) 699-2842
URL:https://ellicottvillelibrary.org/event/escape-the-haunted-library-5/
END:VEVENT
BEGIN:VEVENT
DTSTART;TZID=America/New_York:20251024T180000
DTEND;TZID=America/New_York:20251024T213000
DTSTAMP:20260422T180740
CREATED:20251001T154523Z
LAST-MODIFIED:20251001T154523Z
UID:2152-1761328800-1761341400@ellicottvillelibrary.org
SUMMARY:Escape the Haunted Library
DESCRIPTION:Can you escape the library in 30 minutes or less? \nGather your team\, sign up for a time slot\, and prepare for a spooktacular escape room! \nFree Event! \nReservation required! \n \nCall the library to sign up for a time slot: (716) 699-2842
URL:https://ellicottvillelibrary.org/event/escape-the-haunted-library-4/
END:VEVENT
BEGIN:VEVENT
DTSTART;TZID=America/New_York:20251001T190000
DTEND;TZID=America/New_York:20251001T203000
DTSTAMP:20260422T180740
CREATED:20220602T183444Z
LAST-MODIFIED:20250923T183018Z
UID:1331-1759345200-1759350600@ellicottvillelibrary.org
SUMMARY:Ellicottville Historical Society - "Marina Blair from Illusion Tours"
DESCRIPTION:Marina Blair from Illusion Tours will be the speaker on  Wednesday\, October 1st at 7pm.  The meetings are open to everyone and they are free!
URL:https://ellicottvillelibrary.org/event/ellicottville-historical-society-veteran-stories/
END:VEVENT
BEGIN:VEVENT
DTSTART;TZID=America/New_York:20240716T130000
DTEND;TZID=America/New_York:20240716T140000
DTSTAMP:20260422T180740
CREATED:20240710T163414Z
LAST-MODIFIED:20240710T163414Z
UID:1855-1721134800-1721138400@ellicottvillelibrary.org
SUMMARY:Kids - Make Your Own Terrarium
DESCRIPTION:Special thanks to the Elisa B. Hughey Foundation and the Tri-County Arts Council for making this program possible.  Come join us in making your own terrarium.  Please call to register – 716-699-2842 as there are limited spaces available.
URL:https://ellicottvillelibrary.org/event/kids-make-your-own-terrarium/
END:VEVENT
BEGIN:VEVENT
DTSTART;TZID=America/New_York:20240708T080000
DTEND;TZID=America/New_York:20240811T170000
DTSTAMP:20260422T180740
CREATED:20220630T204118Z
LAST-MODIFIED:20240702T160452Z
UID:1378-1720425600-1723395600@ellicottvillelibrary.org
SUMMARY:Summer Reading Program
DESCRIPTION:“Adventure Begins at Your Library” is the theme for this year’s Summer Reading Program.  We will be having lots of fun activities centered around adventure in the outdoors. Stop in for your booklet and list of events for the summer.  Lots of great prizes\, contests and activities!
URL:https://ellicottvillelibrary.org/event/summer-reading-program/
END:VEVENT
BEGIN:VEVENT
DTSTART;TZID=America/New_York:20240323T140000
DTEND;TZID=America/New_York:20240323T160000
DTSTAMP:20260422T180740
CREATED:20240308T204309Z
LAST-MODIFIED:20240308T204309Z
UID:1782-1711202400-1711209600@ellicottvillelibrary.org
SUMMARY:Dungeons & Dragons
DESCRIPTION:The Library is starting a beginners D&D group for teens.  Interested in fantasy/ Games? Improv?  Join us in creating characters\, learning game mechanics and embarking on wild adventures.  The first meeting is Saturday\, March 23rd at 2 pm.  Contact the library at 716-699-2842 to sign up.
URL:https://ellicottvillelibrary.org/event/dungeons-dragons/
END:VEVENT
BEGIN:VEVENT
DTSTART;TZID=America/New_York:20240221T094500
DTEND;TZID=America/New_York:20240221T104500
DTSTAMP:20260422T180740
CREATED:20240214T181617Z
LAST-MODIFIED:20240214T181617Z
UID:1759-1708508700-1708512300@ellicottvillelibrary.org
SUMMARY:Prairie Dog Program
DESCRIPTION:Join Mike Morton and his prairie dog friends on Wednesday February 21st at 9:45.
URL:https://ellicottvillelibrary.org/event/prairie-dog-program/
END:VEVENT
BEGIN:VEVENT
DTSTART;TZID=America/New_York:20240130T153000
DTEND;TZID=America/New_York:20240130T163000
DTSTAMP:20260422T180740
CREATED:20240118T195417Z
LAST-MODIFIED:20240118T195417Z
UID:1743-1706628600-1706632200@ellicottvillelibrary.org
SUMMARY:Pioneer Life - Buffalo Niagara Heritage Village
DESCRIPTION:Presented by the Buffalo Niagara Heritage Village in tandem with Arts for Learning WNY this program leads us in discovering what life was like in the 1800s. We will examine diaries from the 1800s and we will get the opportunity to tryout some of the daily chores that they would have had to do. The program will conclude with a fun activity from the 1800s.
URL:https://ellicottvillelibrary.org/event/pioneer-life-buffalo-niagara-heritage-village/
END:VEVENT
BEGIN:VEVENT
DTSTART;TZID=America/New_York:20231227T110000
DTEND;TZID=America/New_York:20231227T120000
DTSTAMP:20260422T180740
CREATED:20231223T200513Z
LAST-MODIFIED:20231223T200513Z
UID:1728-1703674800-1703678400@ellicottvillelibrary.org
SUMMARY:Journeys and Journals on the Erie Canal
DESCRIPTION:Come join us for a free program at the \nEllicottville Memorial Library \non \nWednesday morning\, December 27th \n11:00 – 12:00! \nJourneys and Journals on the \n Erie Canal \n  \nSuggested for children in K-5th Grade\, but all are welcome! \n  \nPresented by Arts for Learning WNY and in tandem with the Erie Canal Traveling Museum\, this exciting program will explore life on the Erie Canal through the perspectives of townspeople who lived there. Children will gain insight into the tools that people created and used\, and the trades people found as their livelihoods. They will understand why the Erie Canal was built\, what impact it had on New York State\, and how people lived. This program brings the Erie Canal to life through creative writing prompts that every young writer—from the most resistant to the most prolific will enjoy.
URL:https://ellicottvillelibrary.org/event/journeys-and-journals-on-the-erie-canal/
END:VEVENT
BEGIN:VEVENT
DTSTART;TZID=America/New_York:20231028T183000
DTEND;TZID=America/New_York:20231028T203000
DTSTAMP:20260422T180740
CREATED:20231005T163759Z
LAST-MODIFIED:20231005T163759Z
UID:1682-1698517800-1698525000@ellicottvillelibrary.org
SUMMARY:Escape the Haunted Library
DESCRIPTION:Escape the Haunted Library – \nFall is in the air and Halloween is just around the corner.  This year the Ellicottville Memorial Library will host our second Escape Room event.  Come join us on either Oct 27th or 28th to see if you have what it takes to solve the clues and complete the challenge before it’s too late! Participants must pre-register to select a 30-minute time slot.  Groups of up to 5 members are recommended.  The Escape Room puzzles are geared towards a middle school age range\, but everyone is welcome.  Children under the age of 12 must be accompanied by an adult. Costumes are encouraged. Contact the Library at 716-699-2842 for more information or to register for a start time.
URL:https://ellicottvillelibrary.org/event/escape-the-haunted-library-3/
END:VEVENT
BEGIN:VEVENT
DTSTART;TZID=America/New_York:20231027T183000
DTEND;TZID=America/New_York:20231027T203000
DTSTAMP:20260422T180740
CREATED:20221014T151703Z
LAST-MODIFIED:20231005T163249Z
UID:1464-1698431400-1698438600@ellicottvillelibrary.org
SUMMARY:Escape the Haunted Library
DESCRIPTION:Escape the Haunted Library – \nFall is in the air and Halloween is just around the corner.  This year the Ellicottville Memorial Library will host our second Escape Room event.  Come join us on either Oct 27th or 28th to see if you have what it takes to solve the clues and complete the challenge before it’s too late! Participants must pre-register to select a 30-minute time slot.  Groups of up to 5 members are recommended.  The Escape Room puzzles are geared towards a middle school age range\, but everyone is welcome.  Children under the age of 12 must be accompanied by an adult. Costumes are encouraged. Contact the Library at 716-699-2842 for more information or to register for a start time.
URL:https://ellicottvillelibrary.org/event/escape-the-haunted-library/
END:VEVENT
BEGIN:VEVENT
DTSTART;TZID=America/New_York:20230525T094500
DTEND;TZID=America/New_York:20230525T104500
DTSTAMP:20260422T180740
CREATED:20220630T162017Z
LAST-MODIFIED:20230706T200642Z
UID:1345-1685007900-1685011500@ellicottvillelibrary.org
SUMMARY:Beginner Tai Chi
DESCRIPTION:Instructor Irayna McCasey teaches a Sun Style Tai Chi session for more advanced students every Thursday morning from 9:45 am to 10:45 am.  This class follows the Tai Chi for Health series developed by Dr. Paul Lam that empowers people to improve their health and wellness.  Contact the library for more information. \n  \n 
URL:https://ellicottvillelibrary.org/event/beginner-tai-chi-3/
END:VEVENT
BEGIN:VEVENT
DTSTART;TZID=America/New_York:20230518T094500
DTEND;TZID=America/New_York:20230518T104500
DTSTAMP:20260422T180740
CREATED:20220610T195307Z
LAST-MODIFIED:20230422T170125Z
UID:1337-1684403100-1684406700@ellicottvillelibrary.org
SUMMARY:Beginner Tai Chi
DESCRIPTION:Instructor Irayna McCasey teaches a Sun Style Tai Chi session for more advanced students every Thursday morning from 9:45 am to 10:45 am.  This class follows the Tai Chi for Health series developed by Dr. Paul Lam that empowers people to improve their health and wellness.  Contact the library for more information. \n  \n 
URL:https://ellicottvillelibrary.org/event/beginner-tai-chi-2/
END:VEVENT
BEGIN:VEVENT
DTSTART;TZID=America/New_York:20230518T083000
DTEND;TZID=America/New_York:20230518T093000
DTSTAMP:20260422T180740
CREATED:20211110T202932Z
LAST-MODIFIED:20230422T170150Z
UID:1191-1684398600-1684402200@ellicottvillelibrary.org
SUMMARY:Advanced Tai Chi
DESCRIPTION:Instructor Irayna McCasey teaches a Sun Style Tai Chi session for more advanced students every Thursday morning from 8:30 am to 9:30 am.  This class follows the Tai Chi for Health series developed by Dr. Paul Lam that empowers people to improve their health and wellness.  Contact the library for more information. \n  \n 
URL:https://ellicottvillelibrary.org/event/advanced-tai-chi-2/
END:VEVENT
BEGIN:VEVENT
DTSTART;TZID=America/New_York:20230511T094500
DTEND;TZID=America/New_York:20230511T104500
DTSTAMP:20260422T180740
CREATED:20220610T195205Z
LAST-MODIFIED:20230422T170019Z
UID:1335-1683798300-1683801900@ellicottvillelibrary.org
SUMMARY:Beginner Tai Chi
DESCRIPTION:Instructor Irayna McCasey teaches a Sun Style Tai Chi session for beginner students every Thursday morning from 9:45 am to 10:45 am.  This class follows the Tai Chi for Health series developed by Dr. Paul Lam that empowers people to improve their health and wellness.  Contact the library for more information.
URL:https://ellicottvillelibrary.org/event/beginner-tai-chi/
END:VEVENT
BEGIN:VEVENT
DTSTART;TZID=America/New_York:20230511T083000
DTEND;TZID=America/New_York:20230511T093000
DTSTAMP:20260422T180740
CREATED:20211110T202223Z
LAST-MODIFIED:20230518T142045Z
UID:1189-1683793800-1683797400@ellicottvillelibrary.org
SUMMARY:Advanced Tai Chi
DESCRIPTION:Instructor Irayna McCasey teaches a Sun Style Tai Chi session for more advanced students every Thursday morning from 8:30 am to 9:30 am.  This class follows the Tai Chi for Health series developed by Dr. Paul Lam that empowers people to improve their health and wellness.  Contact the library for more information.
URL:https://ellicottvillelibrary.org/event/advanced-tai-chi/
END:VEVENT
BEGIN:VEVENT
DTSTART;TZID=America/New_York:20230511T083000
DTEND;TZID=America/New_York:20230511T093000
DTSTAMP:20260422T180740
CREATED:20171104T203851Z
LAST-MODIFIED:20230422T170046Z
UID:370-1683793800-1683797400@ellicottvillelibrary.org
SUMMARY:Advanced Tai Chi
DESCRIPTION:Instructor Irayna McCasey teaches a Sun Style Tai Chi session for more advanced students every Thursday morning from 8:30 am to 9:30 am.  This class follows the Tai Chi for Health series developed by Dr. Paul Lam that empowers people to improve their health and wellness.  Contact the library for more information.
URL:https://ellicottvillelibrary.org/event/tai-chi/
END:VEVENT
BEGIN:VEVENT
DTSTART;TZID=America/New_York:20230504T094500
DTEND;TZID=America/New_York:20230504T224500
DTSTAMP:20260422T180740
CREATED:20220630T162308Z
LAST-MODIFIED:20230411T191332Z
UID:1347-1683193500-1683240300@ellicottvillelibrary.org
SUMMARY:Beginner Tai Chi
DESCRIPTION:Instructor Irayna McCasey teaches a Sun Style Tai Chi session for more advanced students every Thursday morning from 9:45 am to 10:45 am.  This class follows the Tai Chi for Health series developed by Dr. Paul Lam that empowers people to improve their health and wellness.  Contact the library for more information. \n  \n 
URL:https://ellicottvillelibrary.org/event/beginner-tai-chi-4/
END:VEVENT
BEGIN:VEVENT
DTSTART;TZID=America/New_York:20230504T083000
DTEND;TZID=America/New_York:20230504T093000
DTSTAMP:20260422T180740
CREATED:20220630T162408Z
LAST-MODIFIED:20230411T191359Z
UID:1349-1683189000-1683192600@ellicottvillelibrary.org
SUMMARY:Advanced Tai Chi
DESCRIPTION:Instructor Irayna McCasey teaches a Sun Style Tai Chi session for more advanced students every Thursday morning from 8:30 am to 9:30 am.  This class follows the Tai Chi for Health series developed by Dr. Paul Lam that empowers people to improve their health and wellness.  Contact the library for more information. \n  \n 
URL:https://ellicottvillelibrary.org/event/advanced-tai-chi-3/
END:VEVENT
BEGIN:VEVENT
DTSTART;TZID=America/New_York:20221029T183000
DTEND;TZID=America/New_York:20221029T210000
DTSTAMP:20260422T180740
CREATED:20221014T151745Z
LAST-MODIFIED:20221014T151745Z
UID:1466-1667068200-1667077200@ellicottvillelibrary.org
SUMMARY:Escape the Haunted Library
DESCRIPTION:Escape the Haunted Library \nFall is in the air and Halloween is just around the corner.  This year the Ellicottville Memorial Library has created a spooky Escape Room event.  Come join us on either Oct 28th or 29th to see if you have what it takes to solve the clues and complete the challenge before it’s too late! Participants must pre-register to select a 30-minute time slot.  Groups of up to 5 members are recommended.  The Escape Room puzzles are geared towards a middle school age range\, but everyone is welcome.  Children under the age of 12 must be accompanied by an adult. Costumes are encouraged. Contact the Library at 716-699-2842 for more information or to register for a start time.
URL:https://ellicottvillelibrary.org/event/escape-the-haunted-library-2/
END:VEVENT
BEGIN:VEVENT
DTSTART;TZID=America/New_York:20220610T153000
DTEND;TZID=America/New_York:20220610T164500
DTSTAMP:20260422T180740
CREATED:20211001T155250Z
LAST-MODIFIED:20220602T182430Z
UID:1161-1654875000-1654879500@ellicottvillelibrary.org
SUMMARY:Youth Chess Club
DESCRIPTION:Youth Chess Club – From learning how to play\, to getting better at the game\, Youth Chess Club is a place for kids to have fun and learn! The Club will meet on Fridays from 3:30-4:45pm.  Contact the library at 699-2842 to sign up.
URL:https://ellicottvillelibrary.org/event/youth-chess-club/
END:VEVENT
BEGIN:VEVENT
DTSTART;TZID=America/New_York:20220603T153000
DTEND;TZID=America/New_York:20220603T164500
DTSTAMP:20260422T180740
CREATED:20211206T154630Z
LAST-MODIFIED:20220602T182409Z
UID:1206-1654270200-1654274700@ellicottvillelibrary.org
SUMMARY:Youth Chess Club
DESCRIPTION:Youth Chess Club – From learning how to play\, to getting better at the game\, Youth Chess Club is a place for kids to have fun and learn! The Club will meet on Fridays from 3:30-4:45pm.  Contact the library at 699-2842 to sign up.
URL:https://ellicottvillelibrary.org/event/youth-chess-club-2/
END:VEVENT
BEGIN:VEVENT
DTSTART;TZID=America/New_York:20220426T183000
DTEND;TZID=America/New_York:20220426T193000
DTSTAMP:20260422T180740
CREATED:20220330T194616Z
LAST-MODIFIED:20220426T134036Z
UID:1307-1650997800-1651001400@ellicottvillelibrary.org
SUMMARY:Adult Chess Class
DESCRIPTION:Adult Chess Class – Never played chess before? Always wanted to learn? Join the two-week class that takes you from getting to know the chess pieces to playing the game. Dates for the class are: April 20th and 26th at 6:30pm.  To participate please sign up by contacting the library.
URL:https://ellicottvillelibrary.org/event/adult-chess-class-2/
END:VEVENT
BEGIN:VEVENT
DTSTART;TZID=America/New_York:20220420T183000
DTEND;TZID=America/New_York:20220420T193000
DTSTAMP:20260422T180740
CREATED:20220330T194546Z
LAST-MODIFIED:20220330T194546Z
UID:1305-1650479400-1650483000@ellicottvillelibrary.org
SUMMARY:Adult Chess Class
DESCRIPTION:Adult Chess Class – Never played chess before? Always wanted to learn? Join the two-week class that takes you from getting to know the chess pieces to playing the game. Dates for the class are: April 20th and 27th at 6:30pm.  To participate please sign up by contacting the library.
URL:https://ellicottvillelibrary.org/event/adult-chess-class/
END:VEVENT
BEGIN:VEVENT
DTSTART;TZID=America/New_York:20211006T133000
DTEND;TZID=America/New_York:20211006T143000
DTSTAMP:20260422T180740
CREATED:20171208T223839Z
LAST-MODIFIED:20211021T143927Z
UID:380-1633527000-1633530600@ellicottvillelibrary.org
SUMMARY:Book Club
DESCRIPTION:Book Club – meets the 1st Wednesday of the month at 1:30 pm from October to June.  The next meeting is November 3rd and the book being discussed is “Hello Summer” by Mary Kay Andrews.  Contact Joyce Evans at 474-7679 for more information. New members are always welcome to join this relaxed and informal group! \n 
URL:https://ellicottvillelibrary.org/event/book-club/
END:VEVENT
BEGIN:VEVENT
DTSTART;TZID=America/New_York:20200329T180000
DTEND;TZID=America/New_York:20200329T200000
DTSTAMP:20260422T180740
CREATED:20171013T171301Z
LAST-MODIFIED:20200330T134653Z
UID:345-1585504800-1585512000@ellicottvillelibrary.org
SUMMARY:Ukrainian Easter Eggs
DESCRIPTION:Ukrainian Easter Eggs – Come join instructor Cathy Lacy on Wednesday\, April 1st from 6 to 8 pm to make beautiful Ukrainian eggs.  Class size is limited to the first 12 people\, so be sure to register early by contacting the Library.  This class is free and is available for adults and children over the age of 12. \n 
URL:https://ellicottvillelibrary.org/event/ukrainian-egg-christmas-ornaments/
END:VEVENT
BEGIN:VEVENT
DTSTART;TZID=America/New_York:20200218T160000
DTEND;TZID=America/New_York:20200218T170000
DTSTAMP:20260422T180740
CREATED:20190712T211045Z
LAST-MODIFIED:20200212T183108Z
UID:603-1582041600-1582045200@ellicottvillelibrary.org
SUMMARY:Tech Tuesdays
DESCRIPTION:Tech Tuesdays – Come join us on Tuesday evenings from 4:00 to 5:00 pm and bring your technology questions.  We will try and help  you with basic computer and/or digital device issues.  (Please note – we do not fix computers)  This is an open house format beginning at 4:00 in the library’s Community Room. \nThe first Monday of the month will be a specific workshop. \nALL AGES WELCOME!  \n  \n  \n  \n 
URL:https://ellicottvillelibrary.org/event/tech-tuesdays/
END:VEVENT
BEGIN:VEVENT
DTSTART;TZID=America/New_York:20200212T180000
DTEND;TZID=America/New_York:20200212T200000
DTSTAMP:20260422T180740
CREATED:20200125T212725Z
LAST-MODIFIED:20200125T215136Z
UID:806-1581530400-1581537600@ellicottvillelibrary.org
SUMMARY:Victorian Valentines
DESCRIPTION:Come make several Victorian Valentine’s Day cards/decorations.  This class will be held on Wednesday\, February 12th from 6 – 8 pm.  Class is free and open to ages 14 and up.  Please contact the library to register.
URL:https://ellicottvillelibrary.org/event/victorian-valentines/
END:VEVENT
BEGIN:VEVENT
DTSTART;TZID=America/New_York:20191211T180000
DTEND;TZID=America/New_York:20191211T190000
DTSTAMP:20260422T180740
CREATED:20191120T181344Z
LAST-MODIFIED:20191120T181344Z
UID:782-1576087200-1576090800@ellicottvillelibrary.org
SUMMARY:Winter Wonderland Crafts
DESCRIPTION:Come join us for some winter crafts on Wednesday December 11th from 6 – 7 pm.  We will make sock snowmen\, snowflakes and more!  This class is free and for ages 5 to 105!  Please contact the Library to register 699-2842.
URL:https://ellicottvillelibrary.org/event/winter-wonderland-crafts/
END:VEVENT
BEGIN:VEVENT
DTSTART;TZID=America/New_York:20191113T180000
DTEND;TZID=America/New_York:20191113T200000
DTSTAMP:20260422T180740
CREATED:20171013T171143Z
LAST-MODIFIED:20190923T165618Z
UID:343-1573668000-1573675200@ellicottvillelibrary.org
SUMMARY:Seasonal Felting Class
DESCRIPTION:Seasonal Felting Class – Come join instructor Cathy Lacy on Wednesday\, November 13th from 6-8 pm to learn how to felt.  There will be time to make several fall/winter felting projects such as pumpkins\, leaves\, snowmen\, etc. Class size is limited and is available for adults and children over 12.  This class is free.  Please call the library at 699-2842 to register.
URL:https://ellicottvillelibrary.org/event/seasonal-felted-decor/
END:VEVENT
END:VCALENDAR