BEGIN:VCALENDAR
VERSION:2.0
PRODID:-//Ellicottville Memorial Library - ECPv6.15.20//NONSGML v1.0//EN
CALSCALE:GREGORIAN
METHOD:PUBLISH
X-WR-CALNAME:Ellicottville Memorial Library
X-ORIGINAL-URL:https://ellicottvillelibrary.org
X-WR-CALDESC:Events for Ellicottville Memorial Library
REFRESH-INTERVAL;VALUE=DURATION:PT1H
X-Robots-Tag:noindex
X-PUBLISHED-TTL:PT1H
BEGIN:VTIMEZONE
TZID:America/New_York
BEGIN:DAYLIGHT
TZOFFSETFROM:-0500
TZOFFSETTO:-0400
TZNAME:EDT
DTSTART:20250309T070000
END:DAYLIGHT
BEGIN:STANDARD
TZOFFSETFROM:-0400
TZOFFSETTO:-0500
TZNAME:EST
DTSTART:20251102T060000
END:STANDARD
BEGIN:DAYLIGHT
TZOFFSETFROM:-0500
TZOFFSETTO:-0400
TZNAME:EDT
DTSTART:20260308T070000
END:DAYLIGHT
BEGIN:STANDARD
TZOFFSETFROM:-0400
TZOFFSETTO:-0500
TZNAME:EST
DTSTART:20261101T060000
END:STANDARD
BEGIN:DAYLIGHT
TZOFFSETFROM:-0500
TZOFFSETTO:-0400
TZNAME:EDT
DTSTART:20270314T070000
END:DAYLIGHT
BEGIN:STANDARD
TZOFFSETFROM:-0400
TZOFFSETTO:-0500
TZNAME:EST
DTSTART:20271107T060000
END:STANDARD
END:VTIMEZONE
BEGIN:VEVENT
DTSTART;TZID=America/New_York:20260408T093000
DTEND;TZID=America/New_York:20260408T100000
DTSTAMP:20260422T090057
CREATED:20171129T160016Z
LAST-MODIFIED:20260320T144353Z
UID:341-1775640600-1775642400@ellicottvillelibrary.org
SUMMARY:Pre-school Story Time - Easter
DESCRIPTION:This class is designed for pre-school age children.  Come join Dr. Kate for a few stories\, sing a few songs\,  and then make a craft. \nEvery Wednesday from 9:30-10:00!
URL:https://ellicottvillelibrary.org/event/pre-school-story-time/
END:VEVENT
BEGIN:VEVENT
DTSTART;TZID=America/New_York:20260408T180000
DTEND;TZID=America/New_York:20260408T193000
DTSTAMP:20260422T090057
CREATED:20200402T173032Z
LAST-MODIFIED:20260320T144627Z
UID:845-1775671200-1775676600@ellicottvillelibrary.org
SUMMARY:April Board Meeting
DESCRIPTION:This month’s board meeting will be held in the Community Room.  All our meetings are open to the public.  All materials for the meeting available in the library the day before the meeting. \n  \n 
URL:https://ellicottvillelibrary.org/event/april-board-meeting/
END:VEVENT
END:VCALENDAR