BEGIN:VCALENDAR
VERSION:2.0
PRODID:-//Ellicottville Memorial Library - ECPv6.15.20//NONSGML v1.0//EN
CALSCALE:GREGORIAN
METHOD:PUBLISH
X-WR-CALNAME:Ellicottville Memorial Library
X-ORIGINAL-URL:https://ellicottvillelibrary.org
X-WR-CALDESC:Events for Ellicottville Memorial Library
REFRESH-INTERVAL;VALUE=DURATION:PT1H
X-Robots-Tag:noindex
X-PUBLISHED-TTL:PT1H
BEGIN:VTIMEZONE
TZID:America/New_York
BEGIN:DAYLIGHT
TZOFFSETFROM:-0500
TZOFFSETTO:-0400
TZNAME:EDT
DTSTART:20250309T070000
END:DAYLIGHT
BEGIN:STANDARD
TZOFFSETFROM:-0400
TZOFFSETTO:-0500
TZNAME:EST
DTSTART:20251102T060000
END:STANDARD
BEGIN:DAYLIGHT
TZOFFSETFROM:-0500
TZOFFSETTO:-0400
TZNAME:EDT
DTSTART:20260308T070000
END:DAYLIGHT
BEGIN:STANDARD
TZOFFSETFROM:-0400
TZOFFSETTO:-0500
TZNAME:EST
DTSTART:20261101T060000
END:STANDARD
BEGIN:DAYLIGHT
TZOFFSETFROM:-0500
TZOFFSETTO:-0400
TZNAME:EDT
DTSTART:20270314T070000
END:DAYLIGHT
BEGIN:STANDARD
TZOFFSETFROM:-0400
TZOFFSETTO:-0500
TZNAME:EST
DTSTART:20271107T060000
END:STANDARD
END:VTIMEZONE
BEGIN:VEVENT
DTSTART;TZID=America/New_York:20260213T100000
DTEND;TZID=America/New_York:20260307T170000
DTSTAMP:20260422T103051
CREATED:20170911T151021Z
LAST-MODIFIED:20260128T191343Z
UID:219-1770976800-1772902800@ellicottvillelibrary.org
SUMMARY:Book Sale
DESCRIPTION:Book Sale – President’s Day Weekend – The Library book sale will be open Friday\, February 13th and Saturday\, February 14th from 10 am until 5 pm with prices as marked on tables.  The book sale will continue as “fill a bag – make a donation” through March 7th during normal business hours.
URL:https://ellicottvillelibrary.org/event/book-sale/
END:VEVENT
END:VCALENDAR